Workbook
Name Março: Dinâmicas!$A$19

Sheet Janeiro
E1: Dias úteis no mês: | F1: 22 | G1: Absenteísmo médio (%): | H1: =AVERAGEIF(H2:H105,">0") -> 5.3708965
A2: Preencha o nome de cada colaborador ativo. | B2: Insira o departamento ou centro de custo do colaborador | C2: Insira aqui o horário completo do dia, sem contar com o horário de almoço. | D2: Insira os atrasos em minutos. | E2: Quantidade Total de faltas no mês (dias). | F2: Cálculo automático. | G2: Cálculo automático. | H2: Cálculo automático.
A4: Nome do colaborador | B4: Departamento | C4: Horas de trabalho/dia (sem horário de almoço) | D4: Minutos atrasados não compensados | E4: Faltas no mês | F4: Jornada Mensal | G4: Horas efetivamente trabalhadas no mês | H4: Absenteísmo individual (%)
A6: XXXXXXX | B6: RH | C6: 8 | D6: 20 | E6: 2 | F6: =F$1*C6 -> 176 | G6: =F6-(E6*C6)-(D6/60) -> 159.66667 | H6: =IFERROR((F6-G6)*100/F6,0) -> 9.280303
A7: ZZZZZZ | B7: Comercial | C7: 8 | D7: 10 | E7: 0 | F7: =F$1*C7 -> 176 | G7: =F7-(E7*C7)-(D7/60) -> 175.83333 | H7: =IFERROR((F7-G7)*100/F7,0) -> 0.09469697
A8: YYYYYYYYYY | B8: Financeiro | C8: 8 | D8: 0 | E8: 1 | F8: =F$1*C8 -> 176 | G8: =F8-(E8*C8)-(D8/60) -> 168 | H8: =IFERROR((F8-G8)*100/F8,0) -> 4.5454545
A9: xxxxx | B9: Juridico | C9: 8 | D9: 5 | E9: 1 | F9: =F$1*C9 -> 176 | G9: =F9-(E9*C9)-(D9/60) -> 167.91667 | H9: =IFERROR((F9-G9)*100/F9,0) -> 4.592803
A10: xxxxx | B10: Juridico | C10: 8 | D10: 5 | E10: 1 | F10: =F$1*C10 -> 176 | G10: =F10-(E10*C10)-(D10/60) -> 167.91667 | H10: =IFERROR((F10-G10)*100/F10,0) -> 4.592803
B11: Comercial | C11: 8 | D11: 3 | E11: 2 | F11: =F$1*C11 -> 176 | G11: =F11-(E11*C11)-(D11/60) -> 159.95 | H11: =IFERROR((F11-G11)*100/F11,0) -> 9.1193182
F12: =F$1*C12 -> 0 | G12: =F12-(E12*C12)-(D12/60) -> 0 | H12: =IFERROR((F12-G12)*100/F12,0) -> 0
F13: =F$1*C13 -> 0 | G13: =F13-(E13*C13)-(D13/60) -> 0 | H13: =IFERROR((F13-G13)*100/F13,0) -> 0
F14: =F$1*C14 -> 0 | G14: =F14-(E14*C14)-(D14/60) -> 0 | H14: =IFERROR((F14-G14)*100/F14,0) -> 0
F15: =F$1*C15 -> 0 | G15: =F15-(E15*C15)-(D15/60) -> 0 | H15: =IFERROR((F15-G15)*100/F15,0) -> 0
F16: =F$1*C16 -> 0 | G16: =F16-(E16*C16)-(D16/60) -> 0 | H16: =IFERROR((F16-G16)*100/F16,0) -> 0
F17: =F$1*C17 -> 0 | G17: =F17-(E17*C17)-(D17/60) -> 0 | H17: =IFERROR((F17-G17)*100/F17,0) -> 0
F18: =F$1*C18 -> 0 | G18: =F18-(E18*C18)-(D18/60) -> 0 | H18: =IFERROR((F18-G18)*100/F18,0) -> 0
F19: =F$1*C19 -> 0 | G19: =F19-(E19*C19)-(D19/60) -> 0 | H19: =IFERROR((F19-G19)*100/F19,0) -> 0
F20: =F$1*C20 -> 0 | G20: =F20-(E20*C20)-(D20/60) -> 0 | H20: =IFERROR((F20-G20)*100/F20,0) -> 0
F21: =F$1*C21 -> 0 | G21: =F21-(E21*C21)-(D21/60) -> 0 | H21: =IFERROR((F21-G21)*100/F21,0) -> 0
F22: =F$1*C22 -> 0 | G22: =F22-(E22*C22)-(D22/60) -> 0 | H22: =IFERROR((F22-G22)*100/F22,0) -> 0
F23: =F$1*C23 -> 0 | G23: =F23-(E23*C23)-(D23/60) -> 0 | H23: =IFERROR((F23-G23)*100/F23,0) -> 0
... F506: =F$1*C506 -> 0 | G506: =F506-(E506*C506)-(D506/60) -> 0 | H506: =IFERROR((F506-G506)*100/F506,0) -> 0

Sheet Fevereiro
E1: Dias úteis no mês: | F1: 22 | G1: Absenteísmo médio (%): | H1: =AVERAGEIF(H2:H105,">0") -> 6.5124459
A2: Preencha o nome de cada colaborador ativo. | B2: Insira o departamento ou centro de custo do colaborador | C2: Insira aqui o horário completo do dia, sem contar com o horário de almoço. | D2: Insira os atrasos em minutos. | E2: Quantidade Total de faltas no mês (dias). | F2: Cálculo automático. | G2: Cálculo automático. | H2: Cálculo automático.
A4: Nome do colaborador | B4: Departamento | C4: Horas de trabalho/dia (sem horário de almoço) | D4: Minutos atrasados não compensados | E4: Faltas no mês | F4: Jornada Mensal | G4: Horas efetivamente trabalhadas no mês | H4: Absenteísmo individual (%)
A6: XXXXXXX | B6: RH | C6: 7 | D6: 20 | E6: 2 | F6: =F$1*C6 -> 154 | G6: =F6-(E6*C6)-(D6/60) -> 139.66667 | H6: =IFERROR((F6-G6)*100/F6,0) -> 9.3073593
A7: ZZZZZZ | B7: Comercial | C7: 7 | D7: 10 | E7: 0 | F7: =F$1*C7 -> 154 | G7: =F7-(E7*C7)-(D7/60) -> 153.83333 | H7: =IFERROR((F7-G7)*100/F7,0) -> 0.10822511
A8: YYYYYYYYYY | B8: Financeiro | C8: 7 | D8: 30 | E8: 3 | F8: =F$1*C8 -> 154 | G8: =F8-(E8*C8)-(D8/60) -> 132.5 | H8: =IFERROR((F8-G8)*100/F8,0) -> 13.961039
A9: xxxxx | B9: Juridico | C9: 8 | D9: 5 | E9: 1 | F9: =F$1*C9 -> 176 | G9: =F9-(E9*C9)-(D9/60) -> 167.91667 | H9: =IFERROR((F9-G9)*100/F9,0) -> 4.592803
A10: xxxxx | B10: Juridico | C10: 8 | D10: 5 | E10: 1 | F10: =F$1*C10 -> 176 | G10: =F10-(E10*C10)-(D10/60) -> 167.91667 | H10: =IFERROR((F10-G10)*100/F10,0) -> 4.592803
F11: =F$1*C11 -> 0 | G11: =F11-(E11*C11)-(D11/60) -> 0 | H11: =IFERROR((F11-G11)*100/F11,0) -> 0
F12: =F$1*C12 -> 0 | G12: =F12-(E12*C12)-(D12/60) -> 0 | H12: =IFERROR((F12-G12)*100/F12,0) -> 0
F13: =F$1*C13 -> 0 | G13: =F13-(E13*C13)-(D13/60) -> 0 | H13: =IFERROR((F13-G13)*100/F13,0) -> 0
F14: =F$1*C14 -> 0 | G14: =F14-(E14*C14)-(D14/60) -> 0 | H14: =IFERROR((F14-G14)*100/F14,0) -> 0
F15: =F$1*C15 -> 0 | G15: =F15-(E15*C15)-(D15/60) -> 0 | H15: =IFERROR((F15-G15)*100/F15,0) -> 0
F16: =F$1*C16 -> 0 | G16: =F16-(E16*C16)-(D16/60) -> 0 | H16: =IFERROR((F16-G16)*100/F16,0) -> 0
F17: =F$1*C17 -> 0 | G17: =F17-(E17*C17)-(D17/60) -> 0 | H17: =IFERROR((F17-G17)*100/F17,0) -> 0
F18: =F$1*C18 -> 0 | G18: =F18-(E18*C18)-(D18/60) -> 0 | H18: =IFERROR((F18-G18)*100/F18,0) -> 0
F19: =F$1*C19 -> 0 | G19: =F19-(E19*C19)-(D19/60) -> 0 | H19: =IFERROR((F19-G19)*100/F19,0) -> 0
F20: =F$1*C20 -> 0 | G20: =F20-(E20*C20)-(D20/60) -> 0 | H20: =IFERROR((F20-G20)*100/F20,0) -> 0
F21: =F$1*C21 -> 0 | G21: =F21-(E21*C21)-(D21/60) -> 0 | H21: =IFERROR((F21-G21)*100/F21,0) -> 0
F22: =F$1*C22 -> 0 | G22: =F22-(E22*C22)-(D22/60) -> 0 | H22: =IFERROR((F22-G22)*100/F22,0) -> 0
... F506: =F$1*C506 -> 0 | G506: =F506-(E506*C506)-(D506/60) -> 0 | H506: =IFERROR((F506-G506)*100/F506,0) -> 0

Sheet Março
E1: Dias úteis no mês: | F1: 22 | G1: Absenteísmo médio (%): | H1: =AVERAGEIF(H2:H105,">0") -> 5.5384199
A2: Preencha o nome de cada colaborador ativo. | B2: Insira o departamento ou centro de custo do colaborador | C2: Insira aqui o horário completo do dia, sem contar com o horário de almoço. | D2: Insira os atrasos em minutos. | E2: Quantidade Total de faltas no mês (dias). | F2: Cálculo automático. | G2: Cálculo automático. | H2: Cálculo automático.
A4: Nome do colaborador | B4: Departamento | C4: Horas de trabalho/dia (sem horário de almoço) | D4: Minutos atrasados não compensados | E4: Faltas no mês | F4: Jornada Mensal | G4: Horas efetivamente trabalhadas no mês | H4: Absenteísmo individual (%)
A6: XXXXXXX | B6: RH | C6: 7 | D6: 20 | E6: 2 | F6: =F$1*C6 -> 154 | G6: =F6-(E6*C6)-(D6/60) -> 139.66667 | H6: =IFERROR((F6-G6)*100/F6,0) -> 9.3073593
A7: ZZZZZZ | B7: Comercial | C7: 7 | D7: 10 | E7: 1 | F7: =F$1*C7 -> 154 | G7: =F7-(E7*C7)-(D7/60) -> 146.83333 | H7: =IFERROR((F7-G7)*100/F7,0) -> 4.6536797
A8: YYYYYYYYYY | B8: Financeiro | C8: 7 | D8: 0 | E8: 1 | F8: =F$1*C8 -> 154 | G8: =F8-(E8*C8)-(D8/60) -> 147 | H8: =IFERROR((F8-G8)*100/F8,0) -> 4.5454545
A9: xxxxx | B9: Juridico | C9: 8 | D9: 5 | E9: 1 | F9: =F$1*C9 -> 176 | G9: =F9-(E9*C9)-(D9/60) -> 167.91667 | H9: =IFERROR((F9-G9)*100/F9,0) -> 4.592803
A10: xxxxx | B10: Juridico | C10: 8 | D10: 5 | E10: 1 | F10: =F$1*C10 -> 176 | G10: =F10-(E10*C10)-(D10/60) -> 167.91667 | H10: =IFERROR((F10-G10)*100/F10,0) -> 4.592803
F11: =F$1*C11 -> 0 | G11: =F11-(E11*C11)-(D11/60) -> 0 | H11: =IFERROR((F11-G11)*100/F11,0) -> 0
F12: =F$1*C12 -> 0 | G12: =F12-(E12*C12)-(D12/60) -> 0 | H12: =IFERROR((F12-G12)*100/F12,0) -> 0
F13: =F$1*C13 -> 0 | G13: =F13-(E13*C13)-(D13/60) -> 0 | H13: =IFERROR((F13-G13)*100/F13,0) -> 0
F14: =F$1*C14 -> 0 | G14: =F14-(E14*C14)-(D14/60) -> 0 | H14: =IFERROR((F14-G14)*100/F14,0) -> 0
F15: =F$1*C15 -> 0 | G15: =F15-(E15*C15)-(D15/60) -> 0 | H15: =IFERROR((F15-G15)*100/F15,0) -> 0
F16: =F$1*C16 -> 0 | G16: =F16-(E16*C16)-(D16/60) -> 0 | H16: =IFERROR((F16-G16)*100/F16,0) -> 0
F17: =F$1*C17 -> 0 | G17: =F17-(E17*C17)-(D17/60) -> 0 | H17: =IFERROR((F17-G17)*100/F17,0) -> 0
F18: =F$1*C18 -> 0 | G18: =F18-(E18*C18)-(D18/60) -> 0 | H18: =IFERROR((F18-G18)*100/F18,0) -> 0
F19: =F$1*C19 -> 0 | G19: =F19-(E19*C19)-(D19/60) -> 0 | H19: =IFERROR((F19-G19)*100/F19,0) -> 0
F20: =F$1*C20 -> 0 | G20: =F20-(E20*C20)-(D20/60) -> 0 | H20: =IFERROR((F20-G20)*100/F20,0) -> 0
F21: =F$1*C21 -> 0 | G21: =F21-(E21*C21)-(D21/60) -> 0 | H21: =IFERROR((F21-G21)*100/F21,0) -> 0
F22: =F$1*C22 -> 0 | G22: =F22-(E22*C22)-(D22/60) -> 0 | H22: =IFERROR((F22-G22)*100/F22,0) -> 0
... F506: =F$1*C506 -> 0 | G506: =F506-(E506*C506)-(D506/60) -> 0 | H506: =IFERROR((F506-G506)*100/F506,0) -> 0

Sheet Abril
E1: Dias úteis no mês: | F1: 22 | G1: Absenteísmo médio (%): | H1: =AVERAGEIF(H2:H105,">0") -> 11.0579
A2: Preencha o nome de cada colaborador ativo. | B2: Insira o departamento ou centro de custo do colaborador | C2: Insira aqui o horário completo do dia, sem contar com o horário de almoço. | D2: Insira os atrasos em minutos. | E2: Quantidade Total de faltas no mês (dias). | F2: Cálculo automático. | G2: Cálculo automático. | H2: Cálculo automático.
A4: Nome do colaborador | B4: Departamento | C4: Horas de trabalho/dia (sem horário de almoço) | D4: Minutos atrasados não compensados | E4: Faltas no mês | F4: Jornada Mensal | G4: Horas efetivamente trabalhadas no mês | H4: Absenteísmo individual (%)
A6: XXXXXXX | B6: RH | C6: 7 | D6: 20 | E6: 2 | F6: =F$1*C6 -> 154 | G6: =F6-(E6*C6)-(D6/60) -> 139.66667 | H6: =IFERROR((F6-G6)*100/F6,0) -> 9.3073593
A7: ZZZZZZ | B7: Comercial | C7: 7 | D7: 10 | E7: 1 | F7: =F$1*C7 -> 154 | G7: =F7-(E7*C7)-(D7/60) -> 146.83333 | H7: =IFERROR((F7-G7)*100/F7,0) -> 4.6536797
A8: YYYYYYYYYY | B8: Financeiro | C8: 7 | D8: 30 | E8: 7 | F8: =F$1*C8 -> 154 | G8: =F8-(E8*C8)-(D8/60) -> 104.5 | H8: =IFERROR((F8-G8)*100/F8,0) -> 32.142857
A9: xxxxx | B9: Juridico | C9: 8 | D9: 5 | E9: 1 | F9: =F$1*C9 -> 176 | G9: =F9-(E9*C9)-(D9/60) -> 167.91667 | H9: =IFERROR((F9-G9)*100/F9,0) -> 4.592803
A10: xxxxx | B10: Juridico | C10: 8 | D10: 5 | E10: 1 | F10: =F$1*C10 -> 176 | G10: =F10-(E10*C10)-(D10/60) -> 167.91667 | H10: =IFERROR((F10-G10)*100/F10,0) -> 4.592803
F11: =F$1*C11 -> 0 | G11: =F11-(E11*C11)-(D11/60) -> 0 | H11: =IFERROR((F11-G11)*100/F11,0) -> 0
F12: =F$1*C12 -> 0 | G12: =F12-(E12*C12)-(D12/60) -> 0 | H12: =IFERROR((F12-G12)*100/F12,0) -> 0
F13: =F$1*C13 -> 0 | G13: =F13-(E13*C13)-(D13/60) -> 0 | H13: =IFERROR((F13-G13)*100/F13,0) -> 0
F14: =F$1*C14 -> 0 | G14: =F14-(E14*C14)-(D14/60) -> 0 | H14: =IFERROR((F14-G14)*100/F14,0) -> 0
F15: =F$1*C15 -> 0 | G15: =F15-(E15*C15)-(D15/60) -> 0 | H15: =IFERROR((F15-G15)*100/F15,0) -> 0
F16: =F$1*C16 -> 0 | G16: =F16-(E16*C16)-(D16/60) -> 0 | H16: =IFERROR((F16-G16)*100/F16,0) -> 0
F17: =F$1*C17 -> 0 | G17: =F17-(E17*C17)-(D17/60) -> 0 | H17: =IFERROR((F17-G17)*100/F17,0) -> 0
F18: =F$1*C18 -> 0 | G18: =F18-(E18*C18)-(D18/60) -> 0 | H18: =IFERROR((F18-G18)*100/F18,0) -> 0
F19: =F$1*C19 -> 0 | G19: =F19-(E19*C19)-(D19/60) -> 0 | H19: =IFERROR((F19-G19)*100/F19,0) -> 0
F20: =F$1*C20 -> 0 | G20: =F20-(E20*C20)-(D20/60) -> 0 | H20: =IFERROR((F20-G20)*100/F20,0) -> 0
F21: =F$1*C21 -> 0 | G21: =F21-(E21*C21)-(D21/60) -> 0 | H21: =IFERROR((F21-G21)*100/F21,0) -> 0
F22: =F$1*C22 -> 0 | G22: =F22-(E22*C22)-(D22/60) -> 0 | H22: =IFERROR((F22-G22)*100/F22,0) -> 0
... F506: =F$1*C506 -> 0 | G506: =F506-(E506*C506)-(D506/60) -> 0 | H506: =IFERROR((F506-G506)*100/F506,0) -> 0

Sheet Maio
E1: Dias úteis no mês: | F1: 22 | G1: Absenteísmo médio (%): | H1: =AVERAGEIF(H2:H105,">0") -> 5.5384199
A2: Preencha o nome de cada colaborador ativo. | B2: Insira o departamento ou centro de custo do colaborador | C2: Insira aqui o horário completo do dia, sem contar com o horário de almoço. | D2: Insira os atrasos em minutos. | E2: Quantidade Total de faltas no mês (dias). | F2: Cálculo automático. | G2: Cálculo automático. | H2: Cálculo automático.
A4: Nome do colaborador | B4: Departamento | C4: Horas de trabalho/dia (sem horário de almoço) | D4: Minutos atrasados não compensados | E4: Faltas no mês | F4: Jornada Mensal | G4: Horas efetivamente trabalhadas no mês | H4: Absenteísmo individual (%)
A6: XXXXXXX | B6: RH | C6: 7 | D6: 20 | E6: 2 | F6: =F$1*C6 -> 154 | G6: =F6-(E6*C6)-(D6/60) -> 139.66667 | H6: =IFERROR((F6-G6)*100/F6,0) -> 9.3073593
A7: ZZZZZZ | B7: Comercial | C7: 7 | D7: 10 | E7: 1 | F7: =F$1*C7 -> 154 | G7: =F7-(E7*C7)-(D7/60) -> 146.83333 | H7: =IFERROR((F7-G7)*100/F7,0) -> 4.6536797
A8: YYYYYYYYYY | B8: Financeiro | C8: 7 | D8: 0 | E8: 1 | F8: =F$1*C8 -> 154 | G8: =F8-(E8*C8)-(D8/60) -> 147 | H8: =IFERROR((F8-G8)*100/F8,0) -> 4.5454545
A9: xxxxx | B9: Juridico | C9: 8 | D9: 5 | E9: 1 | F9: =F$1*C9 -> 176 | G9: =F9-(E9*C9)-(D9/60) -> 167.91667 | H9: =IFERROR((F9-G9)*100/F9,0) -> 4.592803
A10: xxxxx | B10: Juridico | C10: 8 | D10: 5 | E10: 1 | F10: =F$1*C10 -> 176 | G10: =F10-(E10*C10)-(D10/60) -> 167.91667 | H10: =IFERROR((F10-G10)*100/F10,0) -> 4.592803
F11: =F$1*C11 -> 0 | G11: =F11-(E11*C11)-(D11/60) -> 0 | H11: =IFERROR((F11-G11)*100/F11,0) -> 0
F12: =F$1*C12 -> 0 | G12: =F12-(E12*C12)-(D12/60) -> 0 | H12: =IFERROR((F12-G12)*100/F12,0) -> 0
F13: =F$1*C13 -> 0 | G13: =F13-(E13*C13)-(D13/60) -> 0 | H13: =IFERROR((F13-G13)*100/F13,0) -> 0
F14: =F$1*C14 -> 0 | G14: =F14-(E14*C14)-(D14/60) -> 0 | H14: =IFERROR((F14-G14)*100/F14,0) -> 0
F15: =F$1*C15 -> 0 | G15: =F15-(E15*C15)-(D15/60) -> 0 | H15: =IFERROR((F15-G15)*100/F15,0) -> 0
F16: =F$1*C16 -> 0 | G16: =F16-(E16*C16)-(D16/60) -> 0 | H16: =IFERROR((F16-G16)*100/F16,0) -> 0
F17: =F$1*C17 -> 0 | G17: =F17-(E17*C17)-(D17/60) -> 0 | H17: =IFERROR((F17-G17)*100/F17,0) -> 0
F18: =F$1*C18 -> 0 | G18: =F18-(E18*C18)-(D18/60) -> 0 | H18: =IFERROR((F18-G18)*100/F18,0) -> 0
F19: =F$1*C19 -> 0 | G19: =F19-(E19*C19)-(D19/60) -> 0 | H19: =IFERROR((F19-G19)*100/F19,0) -> 0
F20: =F$1*C20 -> 0 | G20: =F20-(E20*C20)-(D20/60) -> 0 | H20: =IFERROR((F20-G20)*100/F20,0) -> 0
F21: =F$1*C21 -> 0 | G21: =F21-(E21*C21)-(D21/60) -> 0 | H21: =IFERROR((F21-G21)*100/F21,0) -> 0
F22: =F$1*C22 -> 0 | G22: =F22-(E22*C22)-(D22/60) -> 0 | H22: =IFERROR((F22-G22)*100/F22,0) -> 0
... F506: =F$1*C506 -> 0 | G506: =F506-(E506*C506)-(D506/60) -> 0 | H506: =IFERROR((F506-G506)*100/F506,0) -> 0

Sheet Junho
E1: Dias úteis no mês: | F1: 22 | G1: Absenteísmo médio (%): | H1: =AVERAGEIF(H2:H105,">0") -> 5.5384199
A2: Preencha o nome de cada colaborador ativo. | B2: Insira o departamento ou centro de custo do colaborador | C2: Insira aqui o horário completo do dia, sem contar com o horário de almoço. | D2: Insira os atrasos em minutos. | E2: Quantidade Total de faltas no mês (dias). | F2: Cálculo automático. | G2: Cálculo automático. | H2: Cálculo automático.
A4: Nome do colaborador | B4: Departamento | C4: Horas de trabalho/dia (sem horário de almoço) | D4: Minutos atrasados não compensados | E4: Faltas no mês | F4: Jornada Mensal | G4: Horas efetivamente trabalhadas no mês | H4: Absenteísmo individual (%)
A6: XXXXXXX | B6: RH | C6: 7 | D6: 20 | E6: 2 | F6: =F$1*C6 -> 154 | G6: =F6-(E6*C6)-(D6/60) -> 139.66667 | H6: =IFERROR((F6-G6)*100/F6,0) -> 9.3073593
A7: ZZZZZZ | B7: Comercial | C7: 7 | D7: 10 | E7: 1 | F7: =F$1*C7 -> 154 | G7: =F7-(E7*C7)-(D7/60) -> 146.83333 | H7: =IFERROR((F7-G7)*100/F7,0) -> 4.6536797
A8: YYYYYYYYYY | B8: Financeiro | C8: 7 | D8: 0 | E8: 1 | F8: =F$1*C8 -> 154 | G8: =F8-(E8*C8)-(D8/60) -> 147 | H8: =IFERROR((F8-G8)*100/F8,0) -> 4.5454545
A9: xxxxx | B9: Juridico | C9: 8 | D9: 5 | E9: 1 | F9: =F$1*C9 -> 176 | G9: =F9-(E9*C9)-(D9/60) -> 167.91667 | H9: =IFERROR((F9-G9)*100/F9,0) -> 4.592803
A10: xxxxx | B10: Juridico | C10: 8 | D10: 5 | E10: 1 | F10: =F$1*C10 -> 176 | G10: =F10-(E10*C10)-(D10/60) -> 167.91667 | H10: =IFERROR((F10-G10)*100/F10,0) -> 4.592803
F11: =F$1*C11 -> 0 | G11: =F11-(E11*C11)-(D11/60) -> 0 | H11: =IFERROR((F11-G11)*100/F11,0) -> 0
F12: =F$1*C12 -> 0 | G12: =F12-(E12*C12)-(D12/60) -> 0 | H12: =IFERROR((F12-G12)*100/F12,0) -> 0
F13: =F$1*C13 -> 0 | G13: =F13-(E13*C13)-(D13/60) -> 0 | H13: =IFERROR((F13-G13)*100/F13,0) -> 0
F14: =F$1*C14 -> 0 | G14: =F14-(E14*C14)-(D14/60) -> 0 | H14: =IFERROR((F14-G14)*100/F14,0) -> 0
F15: =F$1*C15 -> 0 | G15: =F15-(E15*C15)-(D15/60) -> 0 | H15: =IFERROR((F15-G15)*100/F15,0) -> 0
F16: =F$1*C16 -> 0 | G16: =F16-(E16*C16)-(D16/60) -> 0 | H16: =IFERROR((F16-G16)*100/F16,0) -> 0
F17: =F$1*C17 -> 0 | G17: =F17-(E17*C17)-(D17/60) -> 0 | H17: =IFERROR((F17-G17)*100/F17,0) -> 0
F18: =F$1*C18 -> 0 | G18: =F18-(E18*C18)-(D18/60) -> 0 | H18: =IFERROR((F18-G18)*100/F18,0) -> 0
F19: =F$1*C19 -> 0 | G19: =F19-(E19*C19)-(D19/60) -> 0 | H19: =IFERROR((F19-G19)*100/F19,0) -> 0
F20: =F$1*C20 -> 0 | G20: =F20-(E20*C20)-(D20/60) -> 0 | H20: =IFERROR((F20-G20)*100/F20,0) -> 0
F21: =F$1*C21 -> 0 | G21: =F21-(E21*C21)-(D21/60) -> 0 | H21: =IFERROR((F21-G21)*100/F21,0) -> 0
F22: =F$1*C22 -> 0 | G22: =F22-(E22*C22)-(D22/60) -> 0 | H22: =IFERROR((F22-G22)*100/F22,0) -> 0
... F506: =F$1*C506 -> 0 | G506: =F506-(E506*C506)-(D506/60) -> 0 | H506: =IFERROR((F506-G506)*100/F506,0) -> 0

Sheet Julho
E1: Dias úteis no mês: | F1: 23 | G1: Absenteísmo médio (%): | H1: =AVERAGEIF(H2:H105,">0") -> 5.297619
A2: Preencha o nome de cada colaborador ativo. | B2: Insira o departamento ou centro de custo do colaborador | C2: Insira aqui o horário completo do dia, sem contar com o horário de almoço. | D2: Insira os atrasos em minutos. | E2: Quantidade Total de faltas no mês (dias). | F2: Cálculo automático. | G2: Cálculo automático. | H2: Cálculo automático.
A4: Nome do colaborador | B4: Departamento | C4: Horas de trabalho/dia (sem horário de almoço) | D4: Minutos atrasados não compensados | E4: Faltas no mês | F4: Jornada Mensal | G4: Horas efetivamente trabalhadas no mês | H4: Absenteísmo individual (%)
A6: XXXXXXX | B6: RH | C6: 7 | D6: 20 | E6: 2 | F6: =F$1*C6 -> 161 | G6: =F6-(E6*C6)-(D6/60) -> 146.66667 | H6: =IFERROR((F6-G6)*100/F6,0) -> 8.9026915
A7: ZZZZZZ | B7: Comercial | C7: 7 | D7: 10 | E7: 1 | F7: =F$1*C7 -> 161 | G7: =F7-(E7*C7)-(D7/60) -> 153.83333 | H7: =IFERROR((F7-G7)*100/F7,0) -> 4.4513458
A8: YYYYYYYYYY | B8: Financeiro | C8: 7 | D8: 0 | E8: 1 | F8: =F$1*C8 -> 161 | G8: =F8-(E8*C8)-(D8/60) -> 154 | H8: =IFERROR((F8-G8)*100/F8,0) -> 4.3478261
A9: xxxxx | B9: Juridico | C9: 8 | D9: 5 | E9: 1 | F9: =F$1*C9 -> 184 | G9: =F9-(E9*C9)-(D9/60) -> 175.91667 | H9: =IFERROR((F9-G9)*100/F9,0) -> 4.3931159
A10: xxxxx | B10: Juridico | C10: 8 | D10: 5 | E10: 1 | F10: =F$1*C10 -> 184 | G10: =F10-(E10*C10)-(D10/60) -> 175.91667 | H10: =IFERROR((F10-G10)*100/F10,0) -> 4.3931159
F11: =F$1*C11 -> 0 | G11: =F11-(E11*C11)-(D11/60) -> 0 | H11: =IFERROR((F11-G11)*100/F11,0) -> 0
F12: =F$1*C12 -> 0 | G12: =F12-(E12*C12)-(D12/60) -> 0 | H12: =IFERROR((F12-G12)*100/F12,0) -> 0
F13: =F$1*C13 -> 0 | G13: =F13-(E13*C13)-(D13/60) -> 0 | H13: =IFERROR((F13-G13)*100/F13,0) -> 0
F14: =F$1*C14 -> 0 | G14: =F14-(E14*C14)-(D14/60) -> 0 | H14: =IFERROR((F14-G14)*100/F14,0) -> 0
F15: =F$1*C15 -> 0 | G15: =F15-(E15*C15)-(D15/60) -> 0 | H15: =IFERROR((F15-G15)*100/F15,0) -> 0
F16: =F$1*C16 -> 0 | G16: =F16-(E16*C16)-(D16/60) -> 0 | H16: =IFERROR((F16-G16)*100/F16,0) -> 0
F17: =F$1*C17 -> 0 | G17: =F17-(E17*C17)-(D17/60) -> 0 | H17: =IFERROR((F17-G17)*100/F17,0) -> 0
F18: =F$1*C18 -> 0 | G18: =F18-(E18*C18)-(D18/60) -> 0 | H18: =IFERROR((F18-G18)*100/F18,0) -> 0
F19: =F$1*C19 -> 0 | G19: =F19-(E19*C19)-(D19/60) -> 0 | H19: =IFERROR((F19-G19)*100/F19,0) -> 0
F20: =F$1*C20 -> 0 | G20: =F20-(E20*C20)-(D20/60) -> 0 | H20: =IFERROR((F20-G20)*100/F20,0) -> 0
F21: =F$1*C21 -> 0 | G21: =F21-(E21*C21)-(D21/60) -> 0 | H21: =IFERROR((F21-G21)*100/F21,0) -> 0
F22: =F$1*C22 -> 0 | G22: =F22-(E22*C22)-(D22/60) -> 0 | H22: =IFERROR((F22-G22)*100/F22,0) -> 0
... F506: =F$1*C506 -> 0 | G506: =F506-(E506*C506)-(D506/60) -> 0 | H506: =IFERROR((F506-G506)*100/F506,0) -> 0

Sheet Agosto
E1: Dias úteis no mês: | F1: 23 | G1: Absenteísmo médio (%): | H1: =AVERAGEIF(H2:H105,">0") -> 8.7883023
A2: Preencha o nome de cada colaborador ativo. | B2: Insira o departamento ou centro de custo do colaborador | C2: Insira aqui o horário completo do dia, sem contar com o horário de almoço. | D2: Insira os atrasos em minutos. | E2: Quantidade Total de faltas no mês (dias). | F2: Cálculo automático. | G2: Cálculo automático. | H2: Cálculo automático.
A4: Nome do colaborador | B4: Departamento | C4: Horas de trabalho/dia (sem horário de almoço) | D4: Minutos atrasados não compensados | E4: Faltas no mês | F4: Jornada Mensal | G4: Horas efetivamente trabalhadas no mês | H4: Absenteísmo individual (%)
A6: XXXXXXX | B6: RH | C6: 7 | D6: 20 | E6: 2 | F6: =F$1*C6 -> 161 | G6: =F6-(E6*C6)-(D6/60) -> 146.66667 | H6: =IFERROR((F6-G6)*100/F6,0) -> 8.9026915
A7: ZZZZZZ | B7: Comercial | C7: 7 | D7: 10 | E7: 1 | F7: =F$1*C7 -> 161 | G7: =F7-(E7*C7)-(D7/60) -> 153.83333 | H7: =IFERROR((F7-G7)*100/F7,0) -> 4.4513458
A8: YYYYYYYYYY | B8: Financeiro | C8: 7 | D8: 6 | E8: 5 | F8: =F$1*C8 -> 161 | G8: =F8-(E8*C8)-(D8/60) -> 125.9 | H8: =IFERROR((F8-G8)*100/F8,0) -> 21.801242
A9: xxxxx | B9: Juridico | C9: 8 | D9: 5 | E9: 1 | F9: =F$1*C9 -> 184 | G9: =F9-(E9*C9)-(D9/60) -> 175.91667 | H9: =IFERROR((F9-G9)*100/F9,0) -> 4.3931159
A10: xxxxx | B10: Juridico | C10: 8 | D10: 5 | E10: 1 | F10: =F$1*C10 -> 184 | G10: =F10-(E10*C10)-(D10/60) -> 175.91667 | H10: =IFERROR((F10-G10)*100/F10,0) -> 4.3931159
F11: =F$1*C11 -> 0 | G11: =F11-(E11*C11)-(D11/60) -> 0 | H11: =IFERROR((F11-G11)*100/F11,0) -> 0
F12: =F$1*C12 -> 0 | G12: =F12-(E12*C12)-(D12/60) -> 0 | H12: =IFERROR((F12-G12)*100/F12,0) -> 0
F13: =F$1*C13 -> 0 | G13: =F13-(E13*C13)-(D13/60) -> 0 | H13: =IFERROR((F13-G13)*100/F13,0) -> 0
F14: =F$1*C14 -> 0 | G14: =F14-(E14*C14)-(D14/60) -> 0 | H14: =IFERROR((F14-G14)*100/F14,0) -> 0
F15: =F$1*C15 -> 0 | G15: =F15-(E15*C15)-(D15/60) -> 0 | H15: =IFERROR((F15-G15)*100/F15,0) -> 0
F16: =F$1*C16 -> 0 | G16: =F16-(E16*C16)-(D16/60) -> 0 | H16: =IFERROR((F16-G16)*100/F16,0) -> 0
F17: =F$1*C17 -> 0 | G17: =F17-(E17*C17)-(D17/60) -> 0 | H17: =IFERROR((F17-G17)*100/F17,0) -> 0
F18: =F$1*C18 -> 0 | G18: =F18-(E18*C18)-(D18/60) -> 0 | H18: =IFERROR((F18-G18)*100/F18,0) -> 0
F19: =F$1*C19 -> 0 | G19: =F19-(E19*C19)-(D19/60) -> 0 | H19: =IFERROR((F19-G19)*100/F19,0) -> 0
F20: =F$1*C20 -> 0 | G20: =F20-(E20*C20)-(D20/60) -> 0 | H20: =IFERROR((F20-G20)*100/F20,0) -> 0
F21: =F$1*C21 -> 0 | G21: =F21-(E21*C21)-(D21/60) -> 0 | H21: =IFERROR((F21-G21)*100/F21,0) -> 0
F22: =F$1*C22 -> 0 | G22: =F22-(E22*C22)-(D22/60) -> 0 | H22: =IFERROR((F22-G22)*100/F22,0) -> 0
... F506: =F$1*C506 -> 0 | G506: =F506-(E506*C506)-(D506/60) -> 0 | H506: =IFERROR((F506-G506)*100/F506,0) -> 0

Sheet Setembro
E1: Dias úteis no mês: | F1: 22 | G1: Absenteísmo médio (%): | H1: =AVERAGEIF(H2:H105,">0") -> 5.5384199
A2: Preencha o nome de cada colaborador ativo. | B2: Insira o departamento ou centro de custo do colaborador | C2: Insira aqui o horário completo do dia, sem contar com o horário de almoço. | D2: Insira os atrasos em minutos. | E2: Quantidade Total de faltas no mês (dias). | F2: Cálculo automático. | G2: Cálculo automático. | H2: Cálculo automático.
A4: Nome do colaborador | B4: Departamento | C4: Horas de trabalho/dia (sem horário de almoço) | D4: Minutos atrasados não compensados | E4: Faltas no mês | F4: Jornada Mensal | G4: Horas efetivamente trabalhadas no mês | H4: Absenteísmo individual (%)
A6: XXXXXXX | B6: RH | C6: 7 | D6: 20 | E6: 2 | F6: =F$1*C6 -> 154 | G6: =F6-(E6*C6)-(D6/60) -> 139.66667 | H6: =IFERROR((F6-G6)*100/F6,0) -> 9.3073593
A7: ZZZZZZ | B7: Comercial | C7: 7 | D7: 10 | E7: 1 | F7: =F$1*C7 -> 154 | G7: =F7-(E7*C7)-(D7/60) -> 146.83333 | H7: =IFERROR((F7-G7)*100/F7,0) -> 4.6536797
A8: YYYYYYYYYY | B8: Financeiro | C8: 7 | D8: 0 | E8: 1 | F8: =F$1*C8 -> 154 | G8: =F8-(E8*C8)-(D8/60) -> 147 | H8: =IFERROR((F8-G8)*100/F8,0) -> 4.5454545
A9: xxxxx | B9: Juridico | C9: 8 | D9: 5 | E9: 1 | F9: =F$1*C9 -> 176 | G9: =F9-(E9*C9)-(D9/60) -> 167.91667 | H9: =IFERROR((F9-G9)*100/F9,0) -> 4.592803
A10: xxxxx | B10: Juridico | C10: 8 | D10: 5 | E10: 1 | F10: =F$1*C10 -> 176 | G10: =F10-(E10*C10)-(D10/60) -> 167.91667 | H10: =IFERROR((F10-G10)*100/F10,0) -> 4.592803
F11: =F$1*C11 -> 0 | G11: =F11-(E11*C11)-(D11/60) -> 0 | H11: =IFERROR((F11-G11)*100/F11,0) -> 0
F12: =F$1*C12 -> 0 | G12: =F12-(E12*C12)-(D12/60) -> 0 | H12: =IFERROR((F12-G12)*100/F12,0) -> 0
F13: =F$1*C13 -> 0 | G13: =F13-(E13*C13)-(D13/60) -> 0 | H13: =IFERROR((F13-G13)*100/F13,0) -> 0
F14: =F$1*C14 -> 0 | G14: =F14-(E14*C14)-(D14/60) -> 0 | H14: =IFERROR((F14-G14)*100/F14,0) -> 0
F15: =F$1*C15 -> 0 | G15: =F15-(E15*C15)-(D15/60) -> 0 | H15: =IFERROR((F15-G15)*100/F15,0) -> 0
F16: =F$1*C16 -> 0 | G16: =F16-(E16*C16)-(D16/60) -> 0 | H16: =IFERROR((F16-G16)*100/F16,0) -> 0
F17: =F$1*C17 -> 0 | G17: =F17-(E17*C17)-(D17/60) -> 0 | H17: =IFERROR((F17-G17)*100/F17,0) -> 0
F18: =F$1*C18 -> 0 | G18: =F18-(E18*C18)-(D18/60) -> 0 | H18: =IFERROR((F18-G18)*100/F18,0) -> 0
F19: =F$1*C19 -> 0 | G19: =F19-(E19*C19)-(D19/60) -> 0 | H19: =IFERROR((F19-G19)*100/F19,0) -> 0
F20: =F$1*C20 -> 0 | G20: =F20-(E20*C20)-(D20/60) -> 0 | H20: =IFERROR((F20-G20)*100/F20,0) -> 0
F21: =F$1*C21 -> 0 | G21: =F21-(E21*C21)-(D21/60) -> 0 | H21: =IFERROR((F21-G21)*100/F21,0) -> 0
F22: =F$1*C22 -> 0 | G22: =F22-(E22*C22)-(D22/60) -> 0 | H22: =IFERROR((F22-G22)*100/F22,0) -> 0
... F506: =F$1*C506 -> 0 | G506: =F506-(E506*C506)-(D506/60) -> 0 | H506: =IFERROR((F506-G506)*100/F506,0) -> 0

Sheet Outubro
E1: Dias úteis no mês: | F1: 20 | G1: Absenteísmo médio (%): | H1: =AVERAGEIF(H2:H105,">0") -> 6.0922619
A2: Preencha o nome de cada colaborador ativo. | B2: Insira o departamento ou centro de custo do colaborador | C2: Insira aqui o horário completo do dia, sem contar com o horário de almoço. | D2: Insira os atrasos em minutos. | E2: Quantidade Total de faltas no mês (dias). | F2: Cálculo automático. | G2: Cálculo automático. | H2: Cálculo automático.
A4: Nome do colaborador | B4: Departamento | C4: Horas de trabalho/dia (sem horário de almoço) | D4: Minutos atrasados não compensados | E4: Faltas no mês | F4: Jornada Mensal | G4: Horas efetivamente trabalhadas no mês | H4: Absenteísmo individual (%)
A6: XXXXXXX | B6: RH | C6: 7 | D6: 20 | E6: 2 | F6: =F$1*C6 -> 140 | G6: =F6-(E6*C6)-(D6/60) -> 125.66667 | H6: =IFERROR((F6-G6)*100/F6,0) -> 10.238095
A7: ZZZZZZ | B7: Comercial | C7: 7 | D7: 10 | E7: 1 | F7: =F$1*C7 -> 140 | G7: =F7-(E7*C7)-(D7/60) -> 132.83333 | H7: =IFERROR((F7-G7)*100/F7,0) -> 5.1190476
A8: YYYYYYYYYY | B8: Financeiro | C8: 7 | D8: 0 | E8: 1 | F8: =F$1*C8 -> 140 | G8: =F8-(E8*C8)-(D8/60) -> 133 | H8: =IFERROR((F8-G8)*100/F8,0) -> 5
A9: xxxxx | B9: Juridico | C9: 8 | D9: 5 | E9: 1 | F9: =F$1*C9 -> 160 | G9: =F9-(E9*C9)-(D9/60) -> 151.91667 | H9: =IFERROR((F9-G9)*100/F9,0) -> 5.0520833
A10: xxxxx | B10: Juridico | C10: 8 | D10: 5 | E10: 1 | F10: =F$1*C10 -> 160 | G10: =F10-(E10*C10)-(D10/60) -> 151.91667 | H10: =IFERROR((F10-G10)*100/F10,0) -> 5.0520833
F11: =F$1*C11 -> 0 | G11: =F11-(E11*C11)-(D11/60) -> 0 | H11: =IFERROR((F11-G11)*100/F11,0) -> 0
F12: =F$1*C12 -> 0 | G12: =F12-(E12*C12)-(D12/60) -> 0 | H12: =IFERROR((F12-G12)*100/F12,0) -> 0
F13: =F$1*C13 -> 0 | G13: =F13-(E13*C13)-(D13/60) -> 0 | H13: =IFERROR((F13-G13)*100/F13,0) -> 0
F14: =F$1*C14 -> 0 | G14: =F14-(E14*C14)-(D14/60) -> 0 | H14: =IFERROR((F14-G14)*100/F14,0) -> 0
F15: =F$1*C15 -> 0 | G15: =F15-(E15*C15)-(D15/60) -> 0 | H15: =IFERROR((F15-G15)*100/F15,0) -> 0
F16: =F$1*C16 -> 0 | G16: =F16-(E16*C16)-(D16/60) -> 0 | H16: =IFERROR((F16-G16)*100/F16,0) -> 0
F17: =F$1*C17 -> 0 | G17: =F17-(E17*C17)-(D17/60) -> 0 | H17: =IFERROR((F17-G17)*100/F17,0) -> 0
F18: =F$1*C18 -> 0 | G18: =F18-(E18*C18)-(D18/60) -> 0 | H18: =IFERROR((F18-G18)*100/F18,0) -> 0
F19: =F$1*C19 -> 0 | G19: =F19-(E19*C19)-(D19/60) -> 0 | H19: =IFERROR((F19-G19)*100/F19,0) -> 0
F20: =F$1*C20 -> 0 | G20: =F20-(E20*C20)-(D20/60) -> 0 | H20: =IFERROR((F20-G20)*100/F20,0) -> 0
F21: =F$1*C21 -> 0 | G21: =F21-(E21*C21)-(D21/60) -> 0 | H21: =IFERROR((F21-G21)*100/F21,0) -> 0
F22: =F$1*C22 -> 0 | G22: =F22-(E22*C22)-(D22/60) -> 0 | H22: =IFERROR((F22-G22)*100/F22,0) -> 0
... F506: =F$1*C506 -> 0 | G506: =F506-(E506*C506)-(D506/60) -> 0 | H506: =IFERROR((F506-G506)*100/F506,0) -> 0

Sheet Novembro
E1: Dias úteis no mês: | F1: 22 | G1: Absenteísmo médio (%): | H1: =AVERAGEIF(H2:H105,">0") -> 5.5384199
A2: Preencha o nome de cada colaborador ativo. | B2: Insira o departamento ou centro de custo do colaborador | C2: Insira aqui o horário completo do dia, sem contar com o horário de almoço. | D2: Insira os atrasos em minutos. | E2: Quantidade Total de faltas no mês (dias). | F2: Cálculo automático. | G2: Cálculo automático. | H2: Cálculo automático.
A4: Nome do colaborador | B4: Departamento | C4: Horas de trabalho/dia (sem horário de almoço) | D4: Minutos atrasados não compensados | E4: Faltas no mês | F4: Jornada Mensal | G4: Horas efetivamente trabalhadas no mês | H4: Absenteísmo individual (%)
A6: XXXXXXX | B6: RH | C6: 7 | D6: 20 | E6: 2 | F6: =F$1*C6 -> 154 | G6: =F6-(E6*C6)-(D6/60) -> 139.66667 | H6: =IFERROR((F6-G6)*100/F6,0) -> 9.3073593
A7: ZZZZZZ | B7: Comercial | C7: 7 | D7: 10 | E7: 1 | F7: =F$1*C7 -> 154 | G7: =F7-(E7*C7)-(D7/60) -> 146.83333 | H7: =IFERROR((F7-G7)*100/F7,0) -> 4.6536797
A8: YYYYYYYYYY | B8: Financeiro | C8: 7 | D8: 0 | E8: 1 | F8: =F$1*C8 -> 154 | G8: =F8-(E8*C8)-(D8/60) -> 147 | H8: =IFERROR((F8-G8)*100/F8,0) -> 4.5454545
A9: xxxxx | B9: Juridico | C9: 8 | D9: 5 | E9: 1 | F9: =F$1*C9 -> 176 | G9: =F9-(E9*C9)-(D9/60) -> 167.91667 | H9: =IFERROR((F9-G9)*100/F9,0) -> 4.592803
A10: xxxxx | B10: Juridico | C10: 8 | D10: 5 | E10: 1 | F10: =F$1*C10 -> 176 | G10: =F10-(E10*C10)-(D10/60) -> 167.91667 | H10: =IFERROR((F10-G10)*100/F10,0) -> 4.592803
F11: =F$1*C11 -> 0 | G11: =F11-(E11*C11)-(D11/60) -> 0 | H11: =IFERROR((F11-G11)*100/F11,0) -> 0
F12: =F$1*C12 -> 0 | G12: =F12-(E12*C12)-(D12/60) -> 0 | H12: =IFERROR((F12-G12)*100/F12,0) -> 0
F13: =F$1*C13 -> 0 | G13: =F13-(E13*C13)-(D13/60) -> 0 | H13: =IFERROR((F13-G13)*100/F13,0) -> 0
F14: =F$1*C14 -> 0 | G14: =F14-(E14*C14)-(D14/60) -> 0 | H14: =IFERROR((F14-G14)*100/F14,0) -> 0
F15: =F$1*C15 -> 0 | G15: =F15-(E15*C15)-(D15/60) -> 0 | H15: =IFERROR((F15-G15)*100/F15,0) -> 0
F16: =F$1*C16 -> 0 | G16: =F16-(E16*C16)-(D16/60) -> 0 | H16: =IFERROR((F16-G16)*100/F16,0) -> 0
F17: =F$1*C17 -> 0 | G17: =F17-(E17*C17)-(D17/60) -> 0 | H17: =IFERROR((F17-G17)*100/F17,0) -> 0
F18: =F$1*C18 -> 0 | G18: =F18-(E18*C18)-(D18/60) -> 0 | H18: =IFERROR((F18-G18)*100/F18,0) -> 0
F19: =F$1*C19 -> 0 | G19: =F19-(E19*C19)-(D19/60) -> 0 | H19: =IFERROR((F19-G19)*100/F19,0) -> 0
F20: =F$1*C20 -> 0 | G20: =F20-(E20*C20)-(D20/60) -> 0 | H20: =IFERROR((F20-G20)*100/F20,0) -> 0
F21: =F$1*C21 -> 0 | G21: =F21-(E21*C21)-(D21/60) -> 0 | H21: =IFERROR((F21-G21)*100/F21,0) -> 0
F22: =F$1*C22 -> 0 | G22: =F22-(E22*C22)-(D22/60) -> 0 | H22: =IFERROR((F22-G22)*100/F22,0) -> 0
... F506: =F$1*C506 -> 0 | G506: =F506-(E506*C506)-(D506/60) -> 0 | H506: =IFERROR((F506-G506)*100/F506,0) -> 0

Sheet Dezembro
E1: Dias úteis no mês: | F1: 22 | G1: Absenteísmo médio (%): | H1: =AVERAGEIF(H2:H105,">0") -> 5.5384199
A2: Preencha o nome de cada colaborador ativo. | B2: Insira o departamento ou centro de custo do colaborador | C2: Insira aqui o horário completo do dia, sem contar com o horário de almoço. | D2: Insira os atrasos em minutos. | E2: Quantidade Total de faltas no mês (dias). | F2: Cálculo automático. | G2: Cálculo automático. | H2: Cálculo automático.
A4: Nome do colaborador | B4: Departamento | C4: Horas de trabalho/dia (sem horário de almoço) | D4: Minutos atrasados não compensados | E4: Faltas no mês | F4: Jornada Mensal | G4: Horas efetivamente trabalhadas no mês | H4: Absenteísmo individual (%)
A6: XXXXXXX | B6: RH | C6: 7 | D6: 20 | E6: 2 | F6: =F$1*C6 -> 154 | G6: =F6-(E6*C6)-(D6/60) -> 139.66667 | H6: =IFERROR((F6-G6)*100/F6,0) -> 9.3073593
A7: ZZZZZZ | B7: Comercial | C7: 7 | D7: 10 | E7: 1 | F7: =F$1*C7 -> 154 | G7: =F7-(E7*C7)-(D7/60) -> 146.83333 | H7: =IFERROR((F7-G7)*100/F7,0) -> 4.6536797
A8: YYYYYYYYYY | B8: Financeiro | C8: 7 | D8: 0 | E8: 1 | F8: =F$1*C8 -> 154 | G8: =F8-(E8*C8)-(D8/60) -> 147 | H8: =IFERROR((F8-G8)*100/F8,0) -> 4.5454545
A9: xxxxx | B9: Juridico | C9: 8 | D9: 5 | E9: 1 | F9: =F$1*C9 -> 176 | G9: =F9-(E9*C9)-(D9/60) -> 167.91667 | H9: =IFERROR((F9-G9)*100/F9,0) -> 4.592803
A10: xxxxx | B10: Juridico | C10: 8 | D10: 5 | E10: 1 | F10: =F$1*C10 -> 176 | G10: =F10-(E10*C10)-(D10/60) -> 167.91667 | H10: =IFERROR((F10-G10)*100/F10,0) -> 4.592803
F11: =F$1*C11 -> 0 | G11: =F11-(E11*C11)-(D11/60) -> 0 | H11: =IFERROR((F11-G11)*100/F11,0) -> 0
F12: =F$1*C12 -> 0 | G12: =F12-(E12*C12)-(D12/60) -> 0 | H12: =IFERROR((F12-G12)*100/F12,0) -> 0
F13: =F$1*C13 -> 0 | G13: =F13-(E13*C13)-(D13/60) -> 0 | H13: =IFERROR((F13-G13)*100/F13,0) -> 0
F14: =F$1*C14 -> 0 | G14: =F14-(E14*C14)-(D14/60) -> 0 | H14: =IFERROR((F14-G14)*100/F14,0) -> 0
F15: =F$1*C15 -> 0 | G15: =F15-(E15*C15)-(D15/60) -> 0 | H15: =IFERROR((F15-G15)*100/F15,0) -> 0
F16: =F$1*C16 -> 0 | G16: =F16-(E16*C16)-(D16/60) -> 0 | H16: =IFERROR((F16-G16)*100/F16,0) -> 0
F17: =F$1*C17 -> 0 | G17: =F17-(E17*C17)-(D17/60) -> 0 | H17: =IFERROR((F17-G17)*100/F17,0) -> 0
F18: =F$1*C18 -> 0 | G18: =F18-(E18*C18)-(D18/60) -> 0 | H18: =IFERROR((F18-G18)*100/F18,0) -> 0
F19: =F$1*C19 -> 0 | G19: =F19-(E19*C19)-(D19/60) -> 0 | H19: =IFERROR((F19-G19)*100/F19,0) -> 0
F20: =F$1*C20 -> 0 | G20: =F20-(E20*C20)-(D20/60) -> 0 | H20: =IFERROR((F20-G20)*100/F20,0) -> 0
F21: =F$1*C21 -> 0 | G21: =F21-(E21*C21)-(D21/60) -> 0 | H21: =IFERROR((F21-G21)*100/F21,0) -> 0
F22: =F$1*C22 -> 0 | G22: =F22-(E22*C22)-(D22/60) -> 0 | H22: =IFERROR((F22-G22)*100/F22,0) -> 0
... F506: =F$1*C506 -> 0 | G506: =F506-(E506*C506)-(D506/60) -> 0 | H506: =IFERROR((F506-G506)*100/F506,0) -> 0

Sheet Dinâmicas
A2: Janeiro | D2: Maio | G2: Setembro
A3: Rótulos de Linha | B3: Média de Absenteísmo individual (%) | D3: Rótulos de Linha | E3: Média de Absenteísmo individual (%) | G3: Rótulos de Linha | H3: Soma de Absenteísmo individual (%)
A4: Comercial | B4: 4.6070076 | D4: Comercial | E4: 4.6536797 | G4: Comercial | H4: 4.6536797
A5: Financeiro | B5: 4.5454545 | D5: Financeiro | E5: 4.5454545 | G5: Financeiro | H5: 4.5454545
A6: Juridico | B6: 4.592803 | D6: Juridico | E6: 4.592803 | G6: Juridico | H6: 9.1856061
A7: RH | B7: 9.280303 | D7: RH | E7: 9.3073593 | G7: RH | H7: 9.3073593
A8: Total Geral | B8: 5.3708965 | D8: Total Geral | E8: 5.5384199 | G8: Total Geral | H8: 27.6921
A10: Fevereiro | D10: Junho | G10: Outubro
A11: Rótulos de Linha | B11: Média de Absenteísmo individual (%) | D11: Rótulos de Linha | E11: Média de Absenteísmo individual (%) | G11: Rótulos de Linha | H11: Soma de Absenteísmo individual (%)
A12: Comercial | B12: 0.10822511 | D12: Comercial | E12: 4.6536797 | G12: Comercial | H12: 5.1190476
A13: Financeiro | B13: 13.961039 | D13: Financeiro | E13: 4.5454545 | G13: Financeiro | H13: 5
A14: Juridico | B14: 4.592803 | D14: Juridico | E14: 4.592803 | G14: Juridico | H14: 10.104167
A15: RH | B15: 9.3073593 | D15: RH | E15: 9.3073593 | G15: RH | H15: 10.238095
A16: Total Geral | B16: 6.5124459 | D16: Total Geral | E16: 5.5384199 | G16: Total Geral | H16: 30.46131
A18: Março | D18: Julho | G18: Novembro
A19: Rótulos de Linha | B19: Média de Absenteísmo individual (%) | D19: Rótulos de Linha | E19: Soma de Absenteísmo individual (%) | G19: Rótulos de Linha | H19: Média de Absenteísmo individual (%)
A20: Comercial | B20: 4.6536797 | D20: Comercial | E20: 4.4513458 | G20: Comercial | H20: 4.6536797
A21: Financeiro | B21: 4.5454545 | D21: Financeiro | E21: 4.3478261 | G21: Financeiro | H21: 4.5454545
A22: Juridico | B22: 4.592803 | D22: Juridico | E22: 8.7862319 | G22: Juridico | H22: 4.592803
A23: RH | B23: 9.3073593 | D23: RH | E23: 8.9026915 | G23: RH | H23: 9.3073593
A24: Total Geral | B24: 5.5384199 | D24: Total Geral | E24: 26.488095 | G24: Total Geral | H24: 5.5384199
A26: Abril | D26: Agosto | G26: Dezembro
A27: Rótulos de Linha | B27: Média de Absenteísmo individual (%) | D27: Rótulos de Linha | E27: Média de Absenteísmo individual (%) | G27: Rótulos de Linha | H27: Soma de Absenteísmo individual (%)
A28: Comercial | B28: 4.6536797 | D28: Comercial | E28: 4.4513458 | G28: Comercial | H28: 4.6536797
A29: Financeiro | B29: 32.142857 | D29: Financeiro | E29: 21.801242 | G29: Financeiro | H29: 4.5454545
A30: Juridico | B30: 4.592803 | D30: Juridico | E30: 4.3931159 | G30: Juridico | H30: 9.1856061
A31: RH | B31: 9.3073593 | D31: RH | E31: 8.9026915 | G31: RH | H31: 9.3073593
A32: Total Geral | B32: 11.0579 | D32: Total Geral | E32: 8.7883023 | G32: Total Geral | H32: 27.6921

Sheet Análise Mensal

Sheet Análise Anual
B2: Análise Anual
B4: Mês | C4: Média Anual | D4: Média Anual: | E4: =AVERAGE(C5:C16) -> 6.3624955
B5: Janeiro | C5: =Janeiro!H1 -> 5.3708965
B6: Fevereiro | C6: =Fevereiro!H1 -> 6.5124459
B7: Março | C7: =Março!H1 -> 5.5384199
B8: Abril | C8: =Abril!H1 -> 11.0579
B9: Maio | C9: =Maio!H1 -> 5.5384199
B10: Junho | C10: =Junho!H1 -> 5.5384199
B11: Julho | C11: =Julho!H1 -> 5.297619
B12: Agosto | C12: =Agosto!H1 -> 8.7883023
B13: Setembro | C13: =Setembro!H1 -> 5.5384199
B14: Outubro | C14: =Outubro!H1 -> 6.0922619
B15: Novembro | C15: =Novembro!H1 -> 5.5384199
B16: Dezembro | C16: =Dezembro!H1 -> 5.5384199
